BEGIN:VCALENDAR
VERSION:2.0
PRODID:-//Wickenburg Art Center &amp; Gallery - ECPv6.15.20//NONSGML v1.0//EN
CALSCALE:GREGORIAN
METHOD:PUBLISH
X-WR-CALNAME:Wickenburg Art Center &amp; Gallery
X-ORIGINAL-URL:https://wickenburgartcenter.org
X-WR-CALDESC:Events for Wickenburg Art Center &amp; Gallery
REFRESH-INTERVAL;VALUE=DURATION:PT1H
X-Robots-Tag:noindex
X-PUBLISHED-TTL:PT1H
BEGIN:VTIMEZONE
TZID:UTC
BEGIN:STANDARD
TZOFFSETFROM:+0000
TZOFFSETTO:+0000
TZNAME:UTC
DTSTART:20230101T000000
END:STANDARD
END:VTIMEZONE
BEGIN:VEVENT
DTSTART;TZID=UTC:20260203T080000
DTEND;TZID=UTC:20260328T170000
DTSTAMP:20260419T143519
CREATED:20260201T233110Z
LAST-MODIFIED:20260317T162830Z
UID:8407-1770105600-1774717200@wickenburgartcenter.org
SUMMARY:2026 DOUBLE TAKE EXHIBIT
DESCRIPTION:The Wickenburg Art Center & Gallery’s latest exhibit snags your attention with a captivating photograph and then snags it again with a stunning art piece inspired by the photo.  It’s the eighth annual Double Take Exhibit! The exhibition showcases how talented photographers\, paired with local artists can influence one another’s creative interpretations with stunning results.  Open to the public\, Double Take runs from Tuesday\, Feb. 3rd\, through Saturday\, March 28th\, at the Wickenburg Art Center and Gallery\, located at 188 South Tegner Street in Wickenburg. \n“The Double Take exhibition presents intriguing artistic interpretations of the same topic\, with different mediums and different points of view\,” said Pamela Plummer\, Executive Director of Wickenburg Art Club.  “You’ll be delighted by the artistic pairings and creative approaches displayed throughout the gallery.” \nDouble Take viewing opens to the public on February 3rd.  The public is also invited to join the fun of an artist reception on Saturday\, February 7th from 4:30pm – 6:00pm.  Running for almost 9 weeks\, the exhibit ends on March 28th.  Be sure to mark your calendar and do a Double Take at the Wickenburg Art Center and Gallery during regular business hours\, Tuesday-Saturday from 10am – 4pm. \nWickenburg Art Club is a 501 (c)3 organization dedicated to encouraging and exhibiting creative works of art\, providing a fellowship venue for artists\, craft persons and friends of the arts. We serve more than 200 talented members\, representing a variety of mediums\, from our office\, studios and gallery at 188 S. Tegner in Wickenburg\, AZ.  \n###
URL:https://wickenburgartcenter.org/event/2026-double-take-exhibit/
LOCATION:Wickenburg Art Center & Gallery\, 188 S. Tegner\, Wickenburg\, AZ\, 85390\, United States
CATEGORIES:Gallery Exhibitions
ATTACH;FMTTYPE=image/webp:https://wickenburgartcenter.org/wp-content/uploads/2026/02/Double-takes-Header.webp
END:VEVENT
BEGIN:VEVENT
DTSTART;TZID=UTC:20260102T080000
DTEND;TZID=UTC:20260124T170000
DTSTAMP:20260419T143519
CREATED:20260102T203441Z
LAST-MODIFIED:20260105T154906Z
UID:8214-1767340800-1769274000@wickenburgartcenter.org
SUMMARY:THE SHOULDERS WE STAND ON
DESCRIPTION:The Wickenburg Art Center & Gallery starts the 2026 New Year by celebrating the past 61 years of Wickenburg art. The Shoulders We Stand On exhibit showcases artists that started the Wickenburg Art Club in 1965 and those who have been a part of the organization for 10 years or more.  In addition to the fine art created and displayed by these artists\, the exhibit includes historical photographs and commentary highlights\, providing viewers insight into the founding and growth of the Wickenburg Art Club. The Shoulders We Stand On is open to the public from January 2nd through January 24th at the Wickenburg Art Center and Gallery\, located at 188 South Tegner Street in Wickenburg. \n“Issac Newton once said ‘If I have seen further\, it is by standing on the shoulders of giants’\,” notes Pamela Plummer\, Executive Director of Wickenburg Art Club.  “The Wickenburg Art Club today is a culmination of all the artists and art that has come together over our past 61 years. Our newest exhibit\, The Shoulders We Stand on\, acknowledges\, celebrates and spotlights those whose artistic inspiration and efforts have made the Wickenburg Art Club the cornerstone of Wickenburg’s art scene.”    \nThe Shoulders We Stand on opens Friday\, January 2nd and runs through Saturday\, January 24th. The public is invited to visit the exhibit during regular business hours\, Tuesday-Saturday from 10am – 4pm and to also join the fun of an artist reception on Saturday\, January 10th from 4:30pm – 6:00pm. \nWickenburg Art Club is a 501 (c)3 organization dedicated to encouraging and exhibiting creative works of art\, providing a fellowship venue for artists\, craft persons and friends of the arts. We serve more than 200 talented members\, representing a variety of mediums\, from our office\, studios and gallery at 188 S. Tegner in Wickenburg\, AZ. 
URL:https://wickenburgartcenter.org/event/the-shoulders-we-stand-on/
LOCATION:Wickenburg Art Center & Gallery\, 188 S. Tegner\, Wickenburg\, AZ\, 85390\, United States
CATEGORIES:Gallery Exhibitions
ATTACH;FMTTYPE=image/webp:https://wickenburgartcenter.org/wp-content/uploads/2026/01/The-Shoulders-We-Stand-On-Event-image.webp
END:VEVENT
BEGIN:VEVENT
DTSTART;TZID=UTC:20251101T100000
DTEND;TZID=UTC:20251224T160000
DTSTAMP:20260419T143519
CREATED:20251102T174759Z
LAST-MODIFIED:20251102T214044Z
UID:6204-1761991200-1766592000@wickenburgartcenter.org
SUMMARY:2025 Gallery of Gifts
DESCRIPTION:Wickenburg Art Center & Gallery – November & December Exhibit\nGallery of Gifts – A Holiday Shopping Experience \nCelebrate the season with the Gallery of Gifts\, Wickenburg Art Center’s annual non-juried holiday exhibit\, running from November 1 through December 24. This festive showcase transforms the gallery into a creative marketplace filled with handcrafted\, one-of-a-kind pieces perfect for holiday gifting. \n \nFrom fine art and jewelry to pottery\, textiles\, ornaments\, and other unique treasures\, every item is made by talented local artists and available for purchase. Whether you’re shopping for loved ones or treating yourself\, the Gallery of Gifts offers a warm\, artistic alternative to traditional holiday shopping. \nStay tuned for details on our Holiday Open House\, where guests can enjoy seasonal cheer\, browse the gallery\, and connect with artists. \n\n\n\n  \nWhy Choose Handmade Gifts?\nHandmade gifts are special—they carry the love\, care\, and individuality of the artist who created them. Each piece tells a story\, making it more personal and meaningful. Whether it’s the slight wonkiness of a ceramic bowl or the unique brushstroke of a painting\, these little imperfections add to the charm and beauty of the piece. \nGallery Hours:\nThe Wickenburg Art Center & Gallery is open Tues – Sat 10 am – 4 pm Stop by during our regular business hours to browse\, shop\, and soak in the festive atmosphere. Discover gifts that are as unique as the people you’re shopping for\, while supporting local artists and our vibrant creative community. \nAdmission is free and we’re open to the public! \nMake your holiday shopping experience delightful and memorable. Visit us at the Wickenburg Art Center & Gallery’s Gallery of Gifts\, and find the perfect present to light up the season. Handmade gifts are the kindest gifts of all. \nSee you there! \n2025 Gallery of Gifts\nNovember 1 – December 24 \nWickenburg Art Center & Gallery\n188 S. TegnerWickenburg\,\nAZ\n85390\nUnited States\n+ Google Map \n\n928-684-0483  \nView Venue Website
URL:https://wickenburgartcenter.org/event/gallery-of-gifts/
LOCATION:Wickenburg Art Center & Gallery\, 188 S. Tegner\, Wickenburg\, AZ\, 85390\, United States
CATEGORIES:Gallery Exhibitions
ATTACH;FMTTYPE=image/webp:https://wickenburgartcenter.org/wp-content/uploads/2024/12/Gallery-Of-Gifts-home-page-image.webp
END:VEVENT
BEGIN:VEVENT
DTSTART;TZID=UTC:20251004T080000
DTEND;TZID=UTC:20251025T170000
DTSTAMP:20260419T143519
CREATED:20251005T200904Z
LAST-MODIFIED:20251006T230924Z
UID:7699-1759564800-1761411600@wickenburgartcenter.org
SUMMARY:Spectacular Arizona Weather Exhibit
DESCRIPTION:Spectacular Arizona Weather Exhibition\n \nThis October\, the Wickenburg Art Center & Gallery invites you to experience the drama\, beauty\, and wonder of the desert skies in our juried exhibit\, “Spectacular Arizona Weather.” From monsoon storms to glowing sunsets\, artists will showcase works inspired by the ever-changing weather that defines life in Arizona. \nThe jury process\, led by exhibit chairs Pam and Jo\, opens September 1 and closes September 15. Selected works will be installed on Tuesday\, September 30\, and the exhibit will run through Monday\, October 25. Join us for the Artist Reception on Saturday\, October 4\, and meet the artists behind these vivid interpretations of Arizona’s breathtaking climate. \nThis juried show promises a powerful visual celebration of the sky above and the land below — a true tribute to the weather that shapes our environment and inspires our art. \nAdmission is free\, and all are welcome to stop by and experience the creative spirit of Wickenburg weather on full display.
URL:https://wickenburgartcenter.org/event/spectacular-arizona-weather-exhibit/
LOCATION:Wickenburg Art Center & Gallery\, 188 S. Tegner\, Wickenburg\, AZ\, 85390\, United States
CATEGORIES:Gallery Exhibitions
ATTACH;FMTTYPE=image/jpeg:https://wickenburgartcenter.org/wp-content/uploads/2025/05/487239556_1222048026592422_5747730275291282202_n.jpg
END:VEVENT
BEGIN:VEVENT
DTSTART;TZID=UTC:20250909T080000
DTEND;TZID=UTC:20250929T170000
DTSTAMP:20260419T143519
CREATED:20250505T200404Z
LAST-MODIFIED:20250918T233954Z
UID:7697-1757404800-1759165200@wickenburgartcenter.org
SUMMARY:Artist of the Season – Lloyd Carr 3D & Lloree Ellsworth 2D
DESCRIPTION:Artist of the Season – Lloyd Carr 3D & Lloree Ellsworth 2D\nThe featured artists are Lloyd Carr\, recognized for his striking 3D creations\, and Lloree Ellsworth\, celebrated for her exceptional 2D artwork.\n\nThis September\, the Wickenburg Art Center & Gallery proudly presents its Artist of the Year Exhibit\, honoring two outstanding members whose work exemplifies artistic excellence and dedication. \nThe featured artists are Lloyd Carr\, recognized for his striking 3D creations\, and Lloree Ellsworth\, celebrated for her exceptional 2D artwork. \nThe exhibit runs from September 9 through September 29\, with a special Artist Reception on Saturday\, September 20. This is a wonderful opportunity to meet the artists\, view their award-winning work\, and enjoy an inspiring evening surrounded by creativity. Don’t miss this spotlight on two of WAC’s most talented and respected artists. \nAdmission is free\, and all are welcome to stop by and experience the creative spirit of Wickenburg on full display.
URL:https://wickenburgartcenter.org/event/artist-of-the-season-lloyd-carr-3d-lloree-ellsworth-2d/
LOCATION:Wickenburg Art Center & Gallery\, 188 S. Tegner\, Wickenburg\, AZ\, 85390\, United States
CATEGORIES:Gallery Exhibitions
ATTACH;FMTTYPE=image/webp:https://wickenburgartcenter.org/wp-content/uploads/2024/10/Lloree-Ellsworth-1.webp
END:VEVENT
BEGIN:VEVENT
DTSTART;VALUE=DATE:20250602
DTEND;VALUE=DATE:20250826
DTSTAMP:20260419T143519
CREATED:20250505T194640Z
LAST-MODIFIED:20250820T165842Z
UID:7695-1748822400-1756166399@wickenburgartcenter.org
SUMMARY:All Member - Non-Juried - Summer Exhibit
DESCRIPTION:All Member – Non-Juried – Summer Exhibit\nJoin us this summer at the Wickenburg Art Center & Gallery for a vibrant showcase of local creativity!  \nThe All-Member\, Non-Juried Summer Exhibit runs from June 2 through August 25 and features an eclectic mix of work from our talented WAC members. \nThis inclusive exhibit celebrates artistic expression in all forms\, offering visitors a unique chance to explore a wide variety of styles and mediums. Featured artists include painters\, mixed media artists\, digital fine artists\, basket makers\, photographers\, sculptors\, jewelry makers\, and clay potters. \nArtwork will be installed on Monday\, June 2\, and removed on Monday\, August 25. Please note\, there will be no formal reception for this exhibit. \nAdmission is free\, and all are welcome to stop by and experience the creative spirit of Wickenburg on full display.
URL:https://wickenburgartcenter.org/event/all-member-non-juried-summer-exhibit/
LOCATION:Wickenburg Art Center & Gallery\, 188 S. Tegner\, Wickenburg\, AZ\, 85390\, United States
CATEGORIES:Gallery Exhibitions
ATTACH;FMTTYPE=image/webp:https://wickenburgartcenter.org/wp-content/uploads/2024/10/WACG-Visitor-Info.webp
END:VEVENT
BEGIN:VEVENT
DTSTART;VALUE=DATE:20250401
DTEND;VALUE=DATE:20250524
DTSTAMP:20260419T143519
CREATED:20241030T181321Z
LAST-MODIFIED:20250407T183858Z
UID:6230-1743465600-1748044799@wickenburgartcenter.org
SUMMARY:Mystery: Black & White Show
DESCRIPTION:Mystery: Black & White Show: April 1st – May 23rd\, 2025 \n \nStep into the world of contrasts\, where color does not play a major role but where black and white are invited to showcase mystery and evoke powerful emotions. Of course color is welcome\, but don’t forget about black and white. \nDeadline: Entry Deadline:  March 2nd\, 2025 \nNotification to artists: March 7th\, 2025 \nDelivery: March 27th \nPick-up: May 23rd \nReception:  April 5th from 4:30 pm – 6:00 pm
URL:https://wickenburgartcenter.org/event/mystery-black-white-show/
LOCATION:Wickenburg Art Center & Gallery\, 188 S. Tegner\, Wickenburg\, AZ\, 85390\, United States
CATEGORIES:Gallery Exhibitions
ATTACH;FMTTYPE=image/webp:https://wickenburgartcenter.org/wp-content/uploads/2025/04/WACG-4.webp
END:VEVENT
BEGIN:VEVENT
DTSTART;TZID=UTC:20250208T080000
DTEND;TZID=UTC:20250325T170000
DTSTAMP:20260419T143519
CREATED:20241030T180554Z
LAST-MODIFIED:20250602T183308Z
UID:6226-1739001600-1742922000@wickenburgartcenter.org
SUMMARY:Double Takes 2025
DESCRIPTION:Join us once again for Double Takes\, but this year\, get ready for an exciting twist that will ignite your imagination! This unique exhibition showcases captivating photographs submitted by talented photographers\, paired with stunning artistic interpretations by local artists. Each photograph serves as a creative springboard\, inspiring artists to reimagine the scene using a wide range of media\, including painting\, mixed media\, digital art\, pottery\, jewelry\, woodwork\, and more. The result is a dynamic and diverse collection of works that celebrate the synergy between photography and artistic expression. Visitors will have the rare opportunity to see the original photographs displayed side by side with their artistic reinterpretations\, offering a fascinating glimpse into the creative process and the boundless possibilities of art. Don’t miss this visually inspiring experience! \n  \n \n  \nDouble Takes Reception \nArtist Reception for this exhibit is open to the public.\n\nDate and Time\n\nSaturday\, February 8\, 2025\, 4:30 AM until 6:00 PM\n\n\n\nLocation\nWickenburg Art Center\n188 S Tegner\nWickenburg \, AZ  85390\nUSA\n\n928-684-0483\n\n\nEvent Contact(s)\nGabriele E Bitter: gabrielebitter@gmail.com\n  \n“A Quiet Place”\n“Party Animal”
URL:https://wickenburgartcenter.org/event/double-takes-with-a-twist/
LOCATION:Wickenburg Art Center & Gallery\, 188 S. Tegner\, Wickenburg\, AZ\, 85390\, United States
CATEGORIES:Gallery Exhibitions
ATTACH;FMTTYPE=image/webp:https://wickenburgartcenter.org/wp-content/uploads/2025/02/Latest-Exhibit-e1739383122362.webp
END:VEVENT
BEGIN:VEVENT
DTSTART;TZID=UTC:20250104T100000
DTEND;TZID=UTC:20250123T160000
DTSTAMP:20260419T143519
CREATED:20241030T175547Z
LAST-MODIFIED:20250107T212334Z
UID:6223-1735984800-1737648000@wickenburgartcenter.org
SUMMARY:Blurring the Lines; Photography & 3-D Show
DESCRIPTION:
URL:https://wickenburgartcenter.org/event/blurring-the-lines-photography-3-d-show/
LOCATION:Wickenburg Art Center & Gallery\, 188 S. Tegner\, Wickenburg\, AZ\, 85390\, United States
CATEGORIES:Gallery Exhibitions
ATTACH;FMTTYPE=image/webp:https://wickenburgartcenter.org/wp-content/uploads/2024/10/Wickenburg-Social-Blurring-The-Lines-e1736284984796.webp
END:VEVENT
BEGIN:VEVENT
DTSTART;VALUE=DATE:20241105
DTEND;VALUE=DATE:20241124
DTSTAMP:20260419T143519
CREATED:20241118T193129Z
LAST-MODIFIED:20241118T215202Z
UID:6590-1730764800-1732406399@wickenburgartcenter.org
SUMMARY:The Fall Spectacular Show
DESCRIPTION:The Fall Spectacular Show (Oct. 5th – Nov. 23rd) is a juried exhibition showcasing the vibrant colors and textures of the Southwest. Featuring a diverse range of mediums\, the show includes stunning paintings\, sculptures\, ceramics\, multimedia\, mixed media\, basketry\, and exquisite custom jewelry. Don’t miss this celebration of fall’s beauty through art!
URL:https://wickenburgartcenter.org/event/the-fall-spectacular-show/
LOCATION:Wickenburg Art Center & Gallery\, 188 S. Tegner\, Wickenburg\, AZ\, 85390\, United States
CATEGORIES:Gallery Exhibitions
ATTACH;FMTTYPE=image/webp:https://wickenburgartcenter.org/wp-content/uploads/2024/10/Fall-Spectacular.webp
END:VEVENT
END:VCALENDAR