BEGIN:VCALENDAR
VERSION:2.0
PRODID:-//Wickenburg Art Center &amp; Gallery - ECPv6.15.20//NONSGML v1.0//EN
CALSCALE:GREGORIAN
METHOD:PUBLISH
X-WR-CALNAME:Wickenburg Art Center &amp; Gallery
X-ORIGINAL-URL:https://wickenburgartcenter.org
X-WR-CALDESC:Events for Wickenburg Art Center &amp; Gallery
REFRESH-INTERVAL;VALUE=DURATION:PT1H
X-Robots-Tag:noindex
X-PUBLISHED-TTL:PT1H
BEGIN:VTIMEZONE
TZID:UTC
BEGIN:STANDARD
TZOFFSETFROM:+0000
TZOFFSETTO:+0000
TZNAME:UTC
DTSTART:20250101T000000
END:STANDARD
END:VTIMEZONE
BEGIN:VEVENT
DTSTART;TZID=UTC:20260401T080000
DTEND;TZID=UTC:20260523T160000
DTSTAMP:20260419T093201
CREATED:20260310T173843Z
LAST-MODIFIED:20260310T173952Z
UID:8439-1775030400-1779552000@wickenburgartcenter.org
SUMMARY:Wild Things
DESCRIPTION:Wild Things\, the gallery’s latest juried art exhibition starts April Fool’s Day (not kidding!) and runs for through May 23.  Both 2-D and 3-D Wild Things from XX artists will be displayed Tuesdays through Saturdays from 10:00am to 4:00pm at the Wickenburg Art Center & Gallery\, located at 188 South Tegner Street. \n \n  \n  \n  \n  \n  \n  \n  \n  \n  \n  \n  \n  \n  \n  \n  \n  \n  \n  \n  \n  \n  \n  \n  \n  \n  \n  \n“No matter how you define Wild Things we’ve got it in an artistic form\,” noted Sharon Maurina\, Gallery Director of Wickenburg Art Center & Gallery.  “You may think Wild Things refers to nouns – animals or plants in a natural environment. Or you may think Wild Things is a verb – living by instinct\, free of restraint\, outside of the norm.  Perhaps you think Wild Things is an adjective – amazing\, unbelievable\, bold\, powerful\, authentic.  However you define Wild Things\, you’ll find it and love it at the Wild Things art exhibit”\nThe public is invited to view and enjoy unbridled talent at the Wild Things exhibit from April 1 to May 23\, 2026. They are also invited to meet the artists\, while enjoying light refreshments\, during a complimentary reception on Saturday\, April 11th from 4:30pm to 6:00pm at the Wickenburg Art Center & Gallery.
URL:https://wickenburgartcenter.org/event/wild-things/
LOCATION:Wickenburg Art Center & Gallery\, 188 S. Tegner\, Wickenburg\, AZ\, 85390\, United States
CATEGORIES:Gallery Exhibitions
ATTACH;FMTTYPE=image/webp:https://wickenburgartcenter.org/wp-content/uploads/2026/03/Wild-Things-Header_Wickenburg-Art-Center.webp
END:VEVENT
BEGIN:VEVENT
DTSTART;TZID=UTC:20261024T160000
DTEND;TZID=UTC:20261024T200000
DTSTAMP:20260419T093201
CREATED:20260418T213308Z
LAST-MODIFIED:20260418T220858Z
UID:8459-1792857600-1792872000@wickenburgartcenter.org
SUMMARY:Paws & Paintbrushes 2026
DESCRIPTION:Paws & Paintbrushes 2026\n\nPaws and Paintbrushes fundraiser supporting K9 Konnection Rescue and Wickenburg Art Center\nMidnight at the Masquerade\, murder mystery dinner. Solve the mystery – ask the questions – buy a clue. Who did it? \nRegister for the 2026 Paws and Paintbrushes here: REGISTER\nThe Wickenburg Art Club and K-9 Konnection Rescue Present:\nMidnight at the Masquerade: Murder Mystery Dinner\nBenefiting stray and surrendered dogs and local arts in Wickenburg AZ. \nhttp://murdermysteryco.com \n$125 per ticket \nCocktail Casual for Masquerade. Masks available upon entry. \nSaturday October 24\, 2026\n4PM-8PM\nWickenburg Ranch Event Hall
URL:https://wickenburgartcenter.org/event/paws-paintbrushes-2026/
LOCATION:Wickenburg Ranch Event Hall\, 3312 Maverick Dr\, Wickenburg\, AZ\, 85390\, United States
CATEGORIES:Signature Events
ATTACH;FMTTYPE=image/webp:https://wickenburgartcenter.org/wp-content/uploads/2026/04/Paws-and-Paint-Brushes.webp
END:VEVENT
END:VCALENDAR